BEGIN:VCALENDAR
VERSION:2.0
PRODID:-//eventon.com NONSGML v1.0//EN
CALSCALE:GREGORIAN
METHOD:PUBLISH
BEGIN:VEVENT
UID:69e74486f25f5
DTSTAMP:20260421T093358Z
DTSTART:20231105T160000Z
DTEND:20231105T225000Z
LOCATION:Relais Jazz Rue de Beauvechain\,  56 - 1320 Tourinnes-la-Grosse
SUMMARY:Ivan Paduart - Olivier Ker Ourio
DESCRIPTION:Yvan Paduart Le pianiste-compositeur s’est forgé un style qu
 i lui a valu la reconnaissance de quelques sommités du genre\,  tels Richa
 rd Galliano (3 CDs ensemble sur le label IGLOO)\,  Tom Harrell\,  Toots Thi
 elemans (qu’il accompagna pendant deux ans sur de nombreuses scènes euro
 péennes)\,  Manu Katché (avec Richard Galliano\,  puis dans[..]\nhttps://
 relaisjazz.be/events/yvan-paduart-olivier-ker-ourio/
URL:https://relaisjazz.be/events/yvan-paduart-olivier-ker-ourio/
END:VEVENT
END:VCALENDAR