BEGIN:VCALENDAR
VERSION:2.0
PRODID:-//eventon.com NONSGML v1.0//EN
CALSCALE:GREGORIAN
METHOD:PUBLISH
BEGIN:VEVENT
UID:69e7441cf17c2
DTSTAMP:20260421T093212Z
DTSTART:20231210T160000Z
DTEND:20231210T225000Z
LOCATION:Relais Jazz Rue de Beauvechain\,  56 - 1320 Tourinnes-la-Grosse
SUMMARY:THÃ‰O ZIPPER SAUVAGE
DESCRIPTION:Bassiste et compositeur\,  Ã  la fois leader et collaborateur\,
   ThÃ©o Zipper balade sa musique un peu partout et sous toutes les formes d
 epuis bientÃ´t 10 ans. La crÃ©ation de son dernier projet Â« Sauvage Â» sâ€
 ™articule autour de multiples rencontres et voyages. TraversÃ© par diffÃ©re
 ntes orchestrations\,  le projet sâ€™enracine profondÃ©ment[..]\nhttps://re
 laisjazz.be/events/theo-zipper-sauvage/
URL:https://relaisjazz.be/events/theo-zipper-sauvage/
END:VEVENT
END:VCALENDAR