BEGIN:VCALENDAR
VERSION:2.0
PRODID:-//eventon.com NONSGML v1.0//EN
CALSCALE:GREGORIAN
METHOD:PUBLISH
BEGIN:VEVENT
UID:69e8aafe75454
DTSTAMP:20260422T110326Z
DTSTART:20240121T160000Z
DTEND:20240121T225000Z
LOCATION:Relais Jazz Rue de Beauvechain\,  56 - 1320 Tourinnes-la-Grosse
SUMMARY:StÃ©phane Mercier Quartet
DESCRIPTION:Pour ce nouveau projet\,  le saxophoniste et compositeur StÃ©ph
 ane Mercier sâ€™entoure de musiciens qui sont aussi des amis de longue date
 . Son rÃ©pertoire\,  aux parfums de be bop et hard bop\,  fait exister un e
 space dâ€™expression oÃ¹ chaque musicien peut sâ€™Ã©panouir librement\,  oÃ
 ¹ toutes les interactions sont possibles. Au piano\, [..]\nhttps://relaisja
 zz.be/events/stephane-mercier-quartet/
URL:https://relaisjazz.be/events/stephane-mercier-quartet/
END:VEVENT
END:VCALENDAR