BEGIN:VCALENDAR
VERSION:2.0
PRODID:-//eventon.com NONSGML v1.0//EN
CALSCALE:GREGORIAN
METHOD:PUBLISH
BEGIN:VEVENT
UID:69e649cbae67c
DTSTAMP:20260420T154411Z
DTSTART:20240211T160000Z
DTEND:20240211T225000Z
LOCATION:Relais Jazz Rue de Beauvechain\,  56 - 1320 Tourinnes-la-Grosse
SUMMARY:NATASHIA KELLY - NICOLA ANDRIOLI
DESCRIPTION:Lors de l&rsquo;enregistrement de l’album “Dear Darkening G
 round” en quintet en 2022 (W.E.R.F. Records)\,  Natasha Kelly et Nicola A
 ndrioli ont enregistré deux morceaux en duo. Avides de terrains inexploré
 s\,  ils décident de poursuivre l’aventure à deux. Transcendant les sty
 les et les frontières\,  ils explorent toutes les possibilités vocales et
  pianistiques.[..]\nhttps://relaisjazz.be/events/natashia-kelly-nicola-andr
 ioli/
URL:https://relaisjazz.be/events/natashia-kelly-nicola-andrioli/
END:VEVENT
END:VCALENDAR