BEGIN:VCALENDAR
VERSION:2.0
PRODID:-//eventon.com NONSGML v1.0//EN
CALSCALE:GREGORIAN
METHOD:PUBLISH
BEGIN:VEVENT
UID:69e5508bbf4dd
DTSTAMP:20260419T220043Z
DTSTART:20250209T160000Z
DTEND:20250209T225900Z
LOCATION:Centre culturel de Beauvechain Rue Auguste Goemans\,  20A - 1320 Hamme-Mille
SUMMARY:ARMANDO LUONGO “NEW LANDS”
DESCRIPTION:Armando Luongo est l’homme que l’on retrouve depuis plus de
  vingt ans derrière les meilleurs saxophonistes\,  guitaristes\,  trompett
 istes et autres pianistes\,  qu’ils soient belges ou internationaux. Sa r
 éputation de batteur sideman n’est plus à faire. Mais le voici\,  cette
  fois\,  leader de sa propre formation qui va en étonner plus[..]\nhttps:/
 /relaisjazz.be/events/armando-luongo-new-lands/
URL:https://relaisjazz.be/events/armando-luongo-new-lands/
END:VEVENT
END:VCALENDAR