BEGIN:VCALENDAR
VERSION:2.0
PRODID:-//eventon.com NONSGML v1.0//EN
CALSCALE:GREGORIAN
METHOD:PUBLISH
BEGIN:VEVENT
UID:69e757ff68d16
DTSTAMP:20260421T105703Z
DTSTART:20260517T150000Z
DTEND:20260517T215900Z
LOCATION:Centre culturel de Beauvechain Rue Auguste Goemans\,  20A - 1320 Hamme-Mille
SUMMARY:COLLINE
DESCRIPTION:De la chanson francophone acoustique\,  poétique\,  existentie
 lle\,  et parfois rigolote. Se visiter soi-même le temps d’un concert\, 
  c’est ce à quoi vous invite COLLINE en interprétant des chansons issue
 s d’un dialogue entre son monde intérieur et notre réalité toujours pl
 us crue. Sur votre gauche\,  vous pouvez apercevoir l’allégresse d’une
  perspective[..]\nhttps://relaisjazz.be/events/colline/
URL:https://relaisjazz.be/events/colline/
END:VEVENT
END:VCALENDAR